BEGIN:VCALENDAR
VERSION:2.0
PRODID:-//Gulf Coast Consortia - ECPv6.15.18//NONSGML v1.0//EN
CALSCALE:GREGORIAN
METHOD:PUBLISH
X-WR-CALNAME:Gulf Coast Consortia
X-ORIGINAL-URL:https://www.gulfcoastconsortia.org
X-WR-CALDESC:Events for Gulf Coast Consortia
REFRESH-INTERVAL;VALUE=DURATION:PT1H
X-Robots-Tag:noindex
X-PUBLISHED-TTL:PT1H
BEGIN:VTIMEZONE
TZID:America/Chicago
BEGIN:DAYLIGHT
TZOFFSETFROM:-0600
TZOFFSETTO:-0500
TZNAME:CDT
DTSTART:20210314T080000
END:DAYLIGHT
BEGIN:STANDARD
TZOFFSETFROM:-0500
TZOFFSETTO:-0600
TZNAME:CST
DTSTART:20211107T070000
END:STANDARD
BEGIN:DAYLIGHT
TZOFFSETFROM:-0600
TZOFFSETTO:-0500
TZNAME:CDT
DTSTART:20220313T080000
END:DAYLIGHT
BEGIN:STANDARD
TZOFFSETFROM:-0500
TZOFFSETTO:-0600
TZNAME:CST
DTSTART:20221106T070000
END:STANDARD
BEGIN:DAYLIGHT
TZOFFSETFROM:-0600
TZOFFSETTO:-0500
TZNAME:CDT
DTSTART:20230312T080000
END:DAYLIGHT
BEGIN:STANDARD
TZOFFSETFROM:-0500
TZOFFSETTO:-0600
TZNAME:CST
DTSTART:20231105T070000
END:STANDARD
END:VTIMEZONE
BEGIN:VEVENT
DTSTART;TZID=America/Chicago:20221017T090000
DTEND;TZID=America/Chicago:20221017T150000
DTSTAMP:20260425T175957
CREATED:20220921T121444Z
LAST-MODIFIED:20220921T215904Z
UID:10001009-1665997200-1666018800@www.gulfcoastconsortia.org
SUMMARY:Rigor and Reproducibility Workshop
DESCRIPTION:1st place winner of the Association of American Medical Colleges 2017 Innovations in Research and Research Education Award\, this exciting workshop brings together highly acclaimed experts in rigor and reproducibility in research topics including data analysis\, experimental design\, resource sharing\, publication and reporting\, and more.  With speakers and facilitators from all of our GCC institutions\, this interactive workshop has proven to be very effective as well as a lot of fun. In person only
URL:https://www.gulfcoastconsortia.org/event/rigor-and-reproducibility-workshop-6/
LOCATION:Bioscience Research Collaborative (BRC) Room 1003\, 6500 Main Street\, Room 1003\, Houston\, Texas\, 77030\, United States
CATEGORIES:GCCRRR
END:VEVENT
BEGIN:VEVENT
DTSTART;TZID=America/Chicago:20221017T120000
DTEND;TZID=America/Chicago:20221017T140000
DTSTAMP:20260425T175957
CREATED:20221108T001243Z
LAST-MODIFIED:20221108T001244Z
UID:10001015-1666008000-1666015200@www.gulfcoastconsortia.org
SUMMARY:Monthly Seminar Series on Antibiotic Resistance
DESCRIPTION:Houston Methodist Research Institute\, the Gulf Coast Consortia and the ASM –TMC Chapter presents the Monthly Seminar Series on Antibiotic Resistance: \n\n\n\n“Predicting Antibiotic Resistance Without Phenotypic Testing: Perils and Possibility” with David Greenberg\, MD\, Professor\, Distinguished Teaching Professor\, Department of Internal Medicine\, Division of Infectious Diseases\, UT Southwestern Medical Center\, Dallas\, TX \n\n\n\nWhen: Monday\, October 17th\,  12:00 p.m. \n\n\n\nWhere: Houston Methodist = Walter Tower\, Room 1-3016 \n\n\n\nhttps://bit.ly/AMR_10_17_2022
URL:https://www.gulfcoastconsortia.org/event/monthly-seminar-series-on-antibiotic-resistance-3/
LOCATION:Maryland
CATEGORIES:GCCAMR
ATTACH;FMTTYPE=image/jpeg:https://www.gulfcoastconsortia.org/wp-content/uploads/2022/11/AMR-Seminar-Antibiotic-Stewardship-10_17_2022.jpg
END:VEVENT
END:VCALENDAR