BEGIN:VCALENDAR
VERSION:2.0
PRODID:-//Gulf Coast Consortia - ECPv6.15.18//NONSGML v1.0//EN
CALSCALE:GREGORIAN
METHOD:PUBLISH
X-ORIGINAL-URL:https://www.gulfcoastconsortia.org
X-WR-CALDESC:Events for Gulf Coast Consortia
REFRESH-INTERVAL;VALUE=DURATION:PT1H
X-Robots-Tag:noindex
X-PUBLISHED-TTL:PT1H
BEGIN:VTIMEZONE
TZID:America/Chicago
BEGIN:DAYLIGHT
TZOFFSETFROM:-0600
TZOFFSETTO:-0500
TZNAME:CDT
DTSTART:20210314T080000
END:DAYLIGHT
BEGIN:STANDARD
TZOFFSETFROM:-0500
TZOFFSETTO:-0600
TZNAME:CST
DTSTART:20211107T070000
END:STANDARD
BEGIN:DAYLIGHT
TZOFFSETFROM:-0600
TZOFFSETTO:-0500
TZNAME:CDT
DTSTART:20220313T080000
END:DAYLIGHT
BEGIN:STANDARD
TZOFFSETFROM:-0500
TZOFFSETTO:-0600
TZNAME:CST
DTSTART:20221106T070000
END:STANDARD
BEGIN:DAYLIGHT
TZOFFSETFROM:-0600
TZOFFSETTO:-0500
TZNAME:CDT
DTSTART:20230312T080000
END:DAYLIGHT
BEGIN:STANDARD
TZOFFSETFROM:-0500
TZOFFSETTO:-0600
TZNAME:CST
DTSTART:20231105T070000
END:STANDARD
END:VTIMEZONE
BEGIN:VEVENT
DTSTART;TZID=America/Chicago:20220923T160000
DTEND;TZID=America/Chicago:20220923T170000
DTSTAMP:20260425T193349
CREATED:20220823T201618Z
LAST-MODIFIED:20220919T200342Z
UID:10000997-1663948800-1663952400@www.gulfcoastconsortia.org
SUMMARY:Keck Seminar\, Jason Eriksen\, PhD
DESCRIPTION:Jason Eriksen\, PhD Associate Professor\, Department of Pharmacological and Pharmaceutical Studies\, UH College of Pharmacy \n\n\n\n\n\n\n\nTitle: Fit Body\, Fit Brain: The Surprising Science of Exercise and Alzheimer’s Disease
URL:https://www.gulfcoastconsortia.org/event/keck-seminar-jason-eriksen-phd/
LOCATION:Maryland
CATEGORIES:Keck Seminar Fall 2022
END:VEVENT
END:VCALENDAR