BEGIN:VCALENDAR
VERSION:2.0
PRODID:-//Gulf Coast Consortia - ECPv6.15.18//NONSGML v1.0//EN
CALSCALE:GREGORIAN
METHOD:PUBLISH
X-ORIGINAL-URL:https://www.gulfcoastconsortia.org
X-WR-CALDESC:Events for Gulf Coast Consortia
REFRESH-INTERVAL;VALUE=DURATION:PT1H
X-Robots-Tag:noindex
X-PUBLISHED-TTL:PT1H
BEGIN:VTIMEZONE
TZID:America/Chicago
BEGIN:DAYLIGHT
TZOFFSETFROM:-0600
TZOFFSETTO:-0500
TZNAME:CDT
DTSTART:20210314T080000
END:DAYLIGHT
BEGIN:STANDARD
TZOFFSETFROM:-0500
TZOFFSETTO:-0600
TZNAME:CST
DTSTART:20211107T070000
END:STANDARD
BEGIN:DAYLIGHT
TZOFFSETFROM:-0600
TZOFFSETTO:-0500
TZNAME:CDT
DTSTART:20220313T080000
END:DAYLIGHT
BEGIN:STANDARD
TZOFFSETFROM:-0500
TZOFFSETTO:-0600
TZNAME:CST
DTSTART:20221106T070000
END:STANDARD
BEGIN:DAYLIGHT
TZOFFSETFROM:-0600
TZOFFSETTO:-0500
TZNAME:CDT
DTSTART:20230312T080000
END:DAYLIGHT
BEGIN:STANDARD
TZOFFSETFROM:-0500
TZOFFSETTO:-0600
TZNAME:CST
DTSTART:20231105T070000
END:STANDARD
END:VTIMEZONE
BEGIN:VEVENT
DTSTART;TZID=America/Chicago:20220913T083000
DTEND;TZID=America/Chicago:20220913T163000
DTSTAMP:20260425T192511
CREATED:20220908T205419Z
LAST-MODIFIED:20220908T205717Z
UID:10001006-1663057800-1663086600@www.gulfcoastconsortia.org
SUMMARY:Diversity\, Disparities and Community Engagement in Healthcare Research Workshop
DESCRIPTION:We invite you to register for the launch of our new Diversity\, Disparities\, and Community Engagement in Healthcare Research Workshop\, a collaboration between GCC and TSU.  The workshop will take place on Sept. 13\, 2022\, from 8:30 am – 4:30 pm (CDT) and will be held in the BioScience Research Collaborative\, Room 1003\, 6500 Main St.\, Houston Texas. Confirmed speakers include: Veronica Ajewole\, TSU; Carla Brailey\, TSU; David Buck\, UH; Sterling Carter\, 100 Black Men Metropolitan Houston; Kathy Flanagan-Payton\, Fifth Ward Community Redevelopment Corporation; Jorge Gomez\, TAMU; Cassandra Harris\, MDA; Rodney Hunter\, TSU; Tiffany Israel\, Vanderbilt Univ. Medical Center; Karen Kossie-Chernyshev\, Latter Day Deliverance Revival Church & TSU; Omonike Olaleye\, TSU; Sharon Petronella Croisant\, UTMB; Rayne Rouce\, Texas Children’s Hospital; Stephen Sodeke\, Tuskegee Univ.; Rachel Tolbert Kimbro\, Rice Univ.; Nkechi Uche-Ogboh\, Dominion International Center.  Please click here for the full workshop agenda.
URL:https://www.gulfcoastconsortia.org/event/diversity-disparities-and-community-engagement-in-healthcare-research-workshop/
LOCATION:Bioscience Research Collaborative (BRC)\, 6500 Main Street\, Auditorium\, Houston\, TX\, 77030\, United States
CATEGORIES:GCCDDCEH
END:VEVENT
END:VCALENDAR